Workbook

Sheet 最適化計算_みんF
A1: 証拠金 | B1: 1000000 | J1: ※共分散行列:2025/11/06-2026/10/30の日次データより算出、年率換算
A2: レバレッジ | B2: {=SUM(ABS(E7:E24))/B1} -> 20.489538 | J2: Ticker | K2: USDJPY | L2: EURJPY | M2: GBPJPY | N2: CHFJPY | O2: AUDJPY | P2: NZDJPY | Q2: ZARJPY | R2: TRYJPY | S2: MXNJPY | T2: CZKJPY | U2: HUFJPY | V2: PLNJPY | W2: CADJPY | X2: SGDJPY | Y2: NOKJPY | Z2: SEKJPY | AA2: GOLD | AB2: WTI
A3: 円ポジション | B3: =-SUM(E7:E22) -> -2602379.8 | J3: USDJPY | K3: 0.0058299597 | L3: 0.0034069955 | M3: 0.0031421478 | N3: 0.002763769 | O3: 0.0028544664 | P3: 0.0025317004 | Q3: 0.0018106036 | R3: 0.0057585993 | S3: 0.0034978369 | T3: 0.0032766712 | U3: 0.001848718 | V3: 0.0028284286 | W3: 0.0044538899 | X3: 0.0038852286 | Y3: 0.0033459272 | Z3: 0.0023882717 | AA3: -0.001640186 | AB3: 0.0014455779
J4: EURJPY | K4: 0.0034069955 | L4: 0.0040507256 | M4: 0.0037322299 | N4: 0.0035859136 | O4: 0.0037302063 | P4: 0.0038087194 | Q4: 0.004116818 | R4: 0.0033084806 | S4: 0.0040355364 | T4: 0.0042689586 | U4: 0.0045768108 | V4: 0.0043297406 | W4: 0.0035520592 | X4: 0.0032356144 | Y4: 0.0039675247 | Z4: 0.00416185 | AA4: 0.0018283227 | AB4: -0.0026206844
A5: ポジション | J5: GBPJPY | K5: 0.0031421478 | L5: 0.0037322299 | M5: 0.0045262824 | N5: 0.0034142275 | O5: 0.0040366021 | P5: 0.0041999515 | Q5: 0.0045262662 | R5: 0.0031230199 | S5: 0.0039570434 | T5: 0.0039934807 | U5: 0.0041508506 | V5: 0.0040623802 | W5: 0.0034336324 | X5: 0.0031971072 | Y5: 0.0041181664 | Z5: 0.0042085889 | AA5: 0.0014263363 | AB5: -0.0019047373
B6: 保有量 | C6: スワップポイント | D6: 価格 | E6: 円貨換算額 | F6: 利回り（年率） | G6: リスク | H6: シャープレシオ | J6: CHFJPY | K6: 0.002763769 | L6: 0.0035859136 | M6: 0.0034142275 | N6: 0.0049076419 | O6: 0.003248473 | P6: 0.0036592088 | Q6: 0.0032908565 | R6: 0.0026230841 | S6: 0.0030381169 | T6: 0.003899758 | U6: 0.0039486957 | V6: 0.003795734 | W6: 0.0034517729 | X6: 0.0028104214 | Y6: 0.0040291255 | Z6: 0.0043275789 | AA6: 0.0013543382 | AB6: -0.0010113094
A7: USDJPY | B7: 0 | C7: 119 | D7: =VLOOKUP(A7,スポット価格!A:B,2,FALSE) -> 158.512 | E7: =B7*D7 -> 0 | F7: =C7*365/D7/10000 -> 0.027401711 | G7: =SQRT(K3) -> 0.076354173 | H7: =F7/G7 -> 0.3588764 | I7: 0 | J7: AUDJPY | K7: 0.0028544664 | L7: 0.0037302063 | M7: 0.0040366021 | N7: 0.003248473 | O7: 0.0070094638 | P7: 0.0056901559 | Q7: 0.0066656122 | R7: 0.0029611979 | S7: 0.005571111 | T7: 0.0039568581 | U7: 0.0053266696 | V7: 0.0044212326 | W7: 0.0037622041 | X7: 0.0034728467 | Y7: 0.0049686731 | Z7: 0.0050618448 | AA7: 0.0026905684 | AB7: -0.0039223469
A8: EURJPY | B8: 0 | C8: 62 | D8: =VLOOKUP(A8,スポット価格!A:B,2,FALSE) -> 176.571 | E8: =B8*D8 -> 0 | F8: =C8*365/D8/10000 -> 0.012816374 | G8: =SQRT(L4) -> 0.063645311 | H8: =F8/G8 -> 0.20137185 | I8: 0 | J8: NZDJPY | K8: 0.0025317004 | L8: 0.0038087194 | M8: 0.0041999515 | N8: 0.0036592088 | O8: 0.0056901559 | P8: 0.0069990349 | Q8: 0.0061087529 | R8: 0.002742377 | S8: 0.0047590902 | T8: 0.0041352909 | U8: 0.0051118271 | V8: 0.0045253416 | W8: 0.0035648233 | X8: 0.0032869428 | Y8: 0.0046893129 | Z8: 0.0053529774 | AA8: 0.0028378969 | AB8: -0.0023148594
A9: GBPJPY | B9: 0.021199673 | C9: 150 | D9: =VLOOKUP(A9,スポット価格!A:B,2,FALSE) -> 211.607 | E9: =B9*D9 -> 4.4859992 | F9: =C9*365/D9/10000 -> 0.025873435 | G9: =SQRT(M5) -> 0.067277652 | H9: =F9/G9 -> 0.38457697 | I9: 0 | J9: ZARJPY | K9: 0.0018106036 | L9: 0.004116818 | M9: 0.0045262662 | N9: 0.0032908565 | O9: 0.0066656122 | P9: 0.0061087529 | Q9: 0.012372726 | R9: 0.0018529518 | S9: 0.007449646 | T9: 0.0049259047 | U9: 0.0081828534 | V9: 0.006088179 | W9: 0.0027597855 | X9: 0.0034222592 | Y9: 0.004351265 | Z9: 0.0061958481 | AA9: 0.0054011567 | AB9: -0.0074859053
A10: CHFJPY | B10: 0 | C10: -30 | D10: =VLOOKUP(A10,スポット価格!A:B,2,FALSE) -> 193.159 | E10: =B10*D10 -> 0 | F10: =C10*365/D10/10000 -> -0.0056689049 | G10: =SQRT(N6) -> 0.070054564 | H10: =F10/G10 -> -0.080921279 | I10: 0 | J10: TRYJPY | K10: 0.0057585993 | L10: 0.0033084806 | M10: 0.0031230199 | N10: 0.0026230841 | O10: 0.0029611979 | P10: 0.002742377 | Q10: 0.0018529518 | R10: 0.0062657061 | S10: 0.003711888 | T10: 0.0032035175 | U10: 0.0019469545 | V10: 0.0027453031 | W10: 0.0043546595 | X10: 0.003877301 | Y10: 0.0031453082 | Z10: 0.0024667681 | AA10: -0.0020395476 | AB10: 0.0012095348
A11: AUDJPY | B11: 0.22303463 | C11: 105 | D11: =VLOOKUP(A11,スポット価格!A:B,2,FALSE) -> 108.794 | E11: =B11*D11 -> 24.26483 | F11: =C11*365/D11/10000 -> 0.035227126 | G11: =SQRT(O7) -> 0.083722541 | H11: =F11/G11 -> 0.42076036 | I11: 0 | J11: MXNJPY | K11: 0.0034978369 | L11: 0.0040355364 | M11: 0.0039570434 | N11: 0.0030381169 | O11: 0.005571111 | P11: 0.0047590902 | Q11: 0.007449646 | R11: 0.003711888 | S11: 0.0093178969 | T11: 0.0044213372 | U11: 0.0061974749 | V11: 0.0048739747 | W11: 0.0036288888 | X11: 0.0037059661 | Y11: 0.0042329031 | Z11: 0.0049175108 | AA11: 0.0052101125 | AB11: -0.0046908788
A12: NZDJPY | B12: 0 | C12: 28 | D12: =VLOOKUP(A12,スポット価格!A:B,2,FALSE) -> 87.832 | E12: =B12*D12 -> 0 | F12: =C12*365/D12/10000 -> 0.01163585 | G12: =SQRT(P8) -> 0.083660235 | H12: =F12/G12 -> 0.1390846 | I12: 0 | J12: CZKJPY | K12: 0.0032766712 | L12: 0.0042689586 | M12: 0.0039934807 | N12: 0.003899758 | O12: 0.0039568581 | P12: 0.0041352909 | Q12: 0.0049259047 | R12: 0.0032035175 | S12: 0.0044213372 | T12: 0.004975512 | U12: 0.0055548257 | V12: 0.0049651906 | W12: 0.0035186691 | X12: 0.0033543286 | Y12: 0.0041037159 | Z12: 0.0046452218 | AA12: 0.0020957922 | AB12: -0.0028480264
A13: ZARJPY | B13: 0 | C13: 15.2 | D13: =VLOOKUP(A13,スポット価格!A:B,2,FALSE) -> 9.575 | E13: =B13*D13 -> 0 | F13: =C13*365/D13/10000 -> 0.057942559 | G13: =SQRT(Q9) -> 0.11123276 | H13: =F13/G13 -> 0.52091272 | I13: 120000 | J13: HUFJPY | K13: 0.001848718 | L13: 0.0045768108 | M13: 0.0041508506 | N13: 0.0039486957 | O13: 0.0053266696 | P13: 0.0051118271 | Q13: 0.0081828534 | R13: 0.0019469545 | S13: 0.0061974749 | T13: 0.0055548257 | U13: 0.012288812 | V13: 0.0065113656 | W13: 0.0024743116 | X13: 0.0032200914 | Y13: 0.0035937086 | Z13: 0.0061654733 | AA13: 0.0033404927 | AB13: -0.0099548495
A14: TRYJPY | B14: 2000000 | C14: =24.7-18 -> 6.7 | D14: =VLOOKUP(A14,スポット価格!A:B,2,FALSE) -> 3.152 | E14: =B14*D14 -> 6304000 | F14: =C14*365/D14/10000 -> 0.07758566 | G14: =SQRT(R10) -> 0.079156213 | H14: =F14/G14 -> 0.98015881 | I14: 2000000 | J14: PLNJPY | K14: 0.0028284286 | L14: 0.0043297406 | M14: 0.0040623802 | N14: 0.003795734 | O14: 0.0044212326 | P14: 0.0045253416 | Q14: 0.006088179 | R14: 0.0027453031 | S14: 0.0048739747 | T14: 0.0049651906 | U14: 0.0065113656 | V14: 0.0059850813 | W14: 0.0032492859 | X14: 0.0032897094 | Y14: 0.0041368619 | Z14: 0.0051283631 | AA14: 0.0025204946 | AB14: -0.003902768
A15: MXNJPY | B15: 230000 | C15: 15.3 | D15: =VLOOKUP(A15,スポット価格!A:B,2,FALSE) -> 8.511 | E15: =B15*D15 -> 1957530 | F15: =C15*365/D15/10000 -> 0.065615086 | G15: =SQRT(S11) -> 0.096529254 | H15: =F15/G15 -> 0.67974302 | I15: 0 | J15: CADJPY | K15: 0.0044538899 | L15: 0.0035520592 | M15: 0.0034336324 | N15: 0.0034517729 | O15: 0.0037622041 | P15: 0.0035648233 | Q15: 0.0027597855 | R15: 0.0043546595 | S15: 0.0036288888 | T15: 0.0035186691 | U15: 0.0024743116 | V15: 0.0032492859 | W15: 0.0050261693 | X15: 0.0035378845 | Y15: 0.0043777509 | Z15: 0.0035734059 | AA15: -0.00029392344 | AB15: 0.0011140557
A16: CZKJPY | B16: 6.955694e-05 | C16: 5 | D16: =VLOOKUP(A16,スポット価格!A:B,2,FALSE) -> 7.256 | E16: =B16*D16 -> 0.00050470516 | F16: =C16*365/D16/10000 -> 0.025151599 | G16: =SQRT(T12) -> 0.070537309 | H16: =F16/G16 -> 0.35657156 | I16: 0 | J16: SGDJPY | K16: 0.0038852286 | L16: 0.0032356144 | M16: 0.0031971072 | N16: 0.0028104214 | O16: 0.0034728467 | P16: 0.0032869428 | Q16: 0.0034222592 | R16: 0.003877301 | S16: 0.0037059661 | T16: 0.0033543286 | U16: 0.0032200914 | V16: 0.0032897094 | W16: 0.0035378845 | X16: 0.0033642594 | Y16: 0.0032869967 | Z16: 0.0032121323 | AA16: 0.00054490679 | AB16: -0.0017207752
A17: HUFJPY | B17: 6800000 | C17: 1 | D17: =VLOOKUP(A17,スポット価格!A:B,2,FALSE) -> 0.483 | E17: =B17*D17 -> 3284400 | F17: =C17*365/D17/10000 -> 0.075569358 | G17: =SQRT(U13) -> 0.11085491 | H17: =F17/G17 -> 0.68169606 | I17: 5300000 | J17: NOKJPY | K17: 0.0033459272 | L17: 0.0039675247 | M17: 0.0041181664 | N17: 0.0040291255 | O17: 0.0049686731 | P17: 0.0046893129 | Q17: 0.004351265 | R17: 0.0031453082 | S17: 0.0042329031 | T17: 0.0041037159 | U17: 0.0035937086 | V17: 0.0041368619 | W17: 0.0043777509 | X17: 0.0032869967 | Y17: 0.0077670328 | Z17: 0.0052282782 | AA17: 0.0027607436 | AB17: -0.0016242515
A18: PLNJPY | B18: 0 | C18: 30 | D18: =VLOOKUP(A18,スポット価格!A:B,2,FALSE) -> 40.174 | E18: =B18*D18 -> 0 | F18: =C18*365/D18/10000 -> 0.027256435 | G18: =SQRT(V14) -> 0.077363307 | H18: =F18/G18 -> 0.35231734 | I18: 0 | J18: SEKJPY | K18: 0.0023882717 | L18: 0.00416185 | M18: 0.0042085889 | N18: 0.0043275789 | O18: 0.0050618448 | P18: 0.0053529774 | Q18: 0.0061958481 | R18: 0.0024667681 | S18: 0.0049175108 | T18: 0.0046452218 | U18: 0.0061654733 | V18: 0.0051283631 | W18: 0.0035734059 | X18: 0.0032121323 | Y18: 0.0052282782 | Z18: 0.0067851467 | AA18: 0.0032536335 | AB18: -0.0037527846
A19: CADJPY | B19: 0 | C19: 30 | D19: =VLOOKUP(A19,スポット価格!A:B,2,FALSE) -> 112.18 | E19: =B19*D19 -> 0 | F19: =C19*365/D19/10000 -> 0.0097610982 | G19: =SQRT(W15) -> 0.070895481 | H19: =F19/G19 -> 0.13768294 | I19: 0 | J19: GOLD | K19: -0.001640186 | L19: 0.0018283227 | M19: 0.0014263363 | N19: 0.0013543382 | O19: 0.0026905684 | P19: 0.0028378969 | Q19: 0.0054011567 | R19: -0.0020395476 | S19: 0.0052101125 | T19: 0.0020957922 | U19: 0.0033404927 | V19: 0.0025204946 | W19: -0.00029392344 | X19: 0.00054490679 | Y19: 0.0027607436 | Z19: 0.0032536335 | AA19: 0.079059283 | AB19: -0.026092005
A20: SGDJPY | B20: -65000 | C20: 24 | D20: =VLOOKUP(A20,スポット価格!A:B,2,FALSE) -> 123.561 | E20: =B20*D20 -> -8031465 | F20: =C20*365/D20/10000 -> 0.0070896157 | G20: =SQRT(X16) -> 0.058002236 | H20: =F20/G20 -> 0.12223004 | I20: -74000 | J20: WTI | K20: 0.0014455779 | L20: -0.0026206844 | M20: -0.0019047373 | N20: -0.0010113094 | O20: -0.0039223469 | P20: -0.0023148594 | Q20: -0.0074859053 | R20: 0.0012095348 | S20: -0.0046908788 | T20: -0.0028480264 | U20: -0.0099548495 | V20: -0.003902768 | W20: 0.0011140557 | X20: -0.0017207752 | Y20: -0.0016242515 | Z20: -0.0037527846 | AA20: -0.026092005 | AB20: 0.31766807
A21: NOKJPY | B21: 0 | C21: 12 | D21: =VLOOKUP(A21,スポット価格!A:B,2,FALSE) -> 16.73 | E21: =B21*D21 -> 0 | F21: =C21*365/D21/10000 -> 0.026180514 | G21: =SQRT(Y17) -> 0.088130771 | H21: =F21/G21 -> 0.29706439 | I21: 0
A22: SEKJPY | B22: -57000 | C22: 4 | D22: =VLOOKUP(A22,スポット価格!A:B,2,FALSE) -> 16.002 | E22: =B22*D22 -> -912114 | F22: =C22*365/D22/10000 -> 0.0091238595 | G22: =SQRT(Z18) -> 0.082372002 | H22: =F22/G22 -> 0.11076409 | I22: -37000
A23: GOLD | B23: 0 | C23: -80 | D23: 4042 | E23: =B23*D23*D7 -> 0 | F23: =C23*365/D23/D7 -> -0.045574761 | G23: =SQRT(AA19) -> 0.28117483 | H23: =F23/G23 -> -0.16208692
A24: WTI | B24: 0 | C24: 0 | D24: 95.332 | E24: =B24*D24*10*D7 -> 0 | F24: =C24*365/D24/D7/10 -> 0 | G24: =SQRT(AB20) -> 0.5636205 | H24: =F24/G24 -> 0
A26: スワップポイント
B27: １日 | C27: １か月 | D27: １年
A28: 合算（円） | B28: =SUMPRODUCT(B7:B24,C7:C24)/10000 -> 2193.1027 | C28: =B28*365/12 -> 66706.873 | D28: =B28*365 -> 800482.47 | K28: 中間ベクトル計算 | L28: 寄与額 | M28: 寄与度（％）
A29: 評価損益のブレ | K29: {=MMULT(K3:Z18, E7:E22)} -> 15838.89 | L29: =K29*E7 -> 0 | M29: =L29/$D$31/$D$31 -> 0
B30: １日 | C30: １か月 | D30: １年 | K30: 14005.724 | L30: =K30*E8 -> 0 | M30: =L30/$D$31/$D$31 -> 0
A31: リスク額 | B31: =D31/SQRT(250) -> 26609.315 | C31: =D31/SQRT(12) -> 121454.35 | D31: {=SQRT(MMULT(MMULT(TRANSPOSE($E$7:$E$24), K3:AB20), 最適化計算_みんF!$E$7:$E$24)/1)} -> 420730.21 | K31: 11550.553 | L31: =K31*E9 -> 51815.773 | M31: =L31/$D$31/$D$31 -> 2.9272148e-07
A32: シャープレシオ | K32: 8933.2712 | L32: =K32*E10 -> 0 | M32: =L32/$D$31/$D$31 -> 0
D33: １年 | K33: 14559.084 | L33: =K33*E11 -> 353273.69 | M33: =L33/$D$31/$D$31 -> 1.9957397e-06
A34: シャープレシオ | D34: =D28/D31 -> 1.9026028 | K34: 12111.956 | L34: =K34*E12 -> 0 | M34: =L34/$D$31/$D$31 -> 0
K35: 20002.785 | L35: =K35*E13 -> 0 | M35: =L35/$D$31/$D$31 -> 0
K36: 19769.426 | L36: =K36*E14 -> 1.2462646e+11 | M36: =L36/$D$31/$D$31 -> 0.70404897
K37: 27745.277 | L37: =K37*E15 -> 5.4312211e+10 | M37: =L37/$D$31/$D$31 -> 0.30682454
K38: 15917.113 | L38: =K38*E16 -> 8.0334492 | M38: =L38/$D$31/$D$31 -> 4.5383153e-11
K39: 33281.2 | L39: =K39*E17 -> 1.0930877e+11 | M39: =L39/$D$31/$D$31 -> 0.61751517
K40: 17134.559 | L40: =K40*E18 -> 0 | M40: =L40/$D$31/$D$31 -> 0
K41: 11008.418 | L41: =K41*E19 -> 0 | M41: =L41/$D$31/$D$31 -> 0
K42: 12323.45 | L42: =K42*E20 -> -9.8975358e+10 | M42: =L42/$D$31/$D$31 -> -0.55913888
K43: 8749.1888 | L43: =K43*E21 -> 0 | M43: =L43/$D$31/$D$31 -> 0
K44: 13439.748 | L44: =K44*E22 -> -1.2258582e+10 | M44: =L44/$D$31/$D$31 -> -0.069252084
K45: #N/A | L45: =K45*#REF! -> #N/A | M45: =L45/$D$31/$D$31 -> #N/A
K46: #N/A | L46: =K46*#REF! -> #N/A | M46: =L46/$D$31/$D$31 -> #N/A

Sheet 最適化計算_GMO
A1: 証拠金 | B1: 1000000 | J1: ※共分散行列:2025/11/06-2026/10/30の日次データより算出、年率換算
A2: レバレッジ | B2: {=SUM(ABS(E7:E24))/B1} -> 19.573525 | J2: Ticker | K2: USDJPY | L2: EURJPY | M2: GBPJPY | N2: CHFJPY | O2: AUDJPY | P2: NZDJPY | Q2: ZARJPY | R2: TRYJPY | S2: MXNJPY | T2: CZKJPY | U2: HUFJPY | V2: PLNJPY | W2: CADJPY | X2: SGDJPY | Y2: NOKJPY | Z2: SEKJPY | AA2: GOLD | AB2: WTI
A3: 円ポジション | B3: =-SUM(E7:E22) -> -2567044.6 | J3: USDJPY | K3: 0.0058299597 | L3: 0.0034069955 | M3: 0.0031421478 | N3: 0.002763769 | O3: 0.0028544664 | P3: 0.0025317004 | Q3: 0.0018106036 | R3: 0.0057585993 | S3: 0.0034978369 | T3: 0.0032766712 | U3: 0.001848718 | V3: 0.0028284286 | W3: 0.0044538899 | X3: 0.0038852286 | Y3: 0.0033459272 | Z3: 0.0023882717 | AA3: -0.001640186 | AB3: 0.0014455779
J4: EURJPY | K4: 0.0034069955 | L4: 0.0040507256 | M4: 0.0037322299 | N4: 0.0035859136 | O4: 0.0037302063 | P4: 0.0038087194 | Q4: 0.004116818 | R4: 0.0033084806 | S4: 0.0040355364 | T4: 0.0042689586 | U4: 0.0045768108 | V4: 0.0043297406 | W4: 0.0035520592 | X4: 0.0032356144 | Y4: 0.0039675247 | Z4: 0.00416185 | AA4: 0.0018283227 | AB4: -0.0026206844
A5: ポジション | J5: GBPJPY | K5: 0.0031421478 | L5: 0.0037322299 | M5: 0.0045262824 | N5: 0.0034142275 | O5: 0.0040366021 | P5: 0.0041999515 | Q5: 0.0045262662 | R5: 0.0031230199 | S5: 0.0039570434 | T5: 0.0039934807 | U5: 0.0041508506 | V5: 0.0040623802 | W5: 0.0034336324 | X5: 0.0031971072 | Y5: 0.0041181664 | Z5: 0.0042085889 | AA5: 0.0014263363 | AB5: -0.0019047373
B6: 保有量 | C6: スワップポイント | D6: 価格 | E6: 円貨換算額 | F6: 利回り（年率） | G6: リスク | H6: シャープレシオ | J6: CHFJPY | K6: 0.002763769 | L6: 0.0035859136 | M6: 0.0034142275 | N6: 0.0049076419 | O6: 0.003248473 | P6: 0.0036592088 | Q6: 0.0032908565 | R6: 0.0026230841 | S6: 0.0030381169 | T6: 0.003899758 | U6: 0.0039486957 | V6: 0.003795734 | W6: 0.0034517729 | X6: 0.0028104214 | Y6: 0.0040291255 | Z6: 0.0043275789 | AA6: 0.0013543382 | AB6: -0.0010113094
A7: USDJPY | B7: 0 | C7: 122 | D7: =VLOOKUP(A7,スポット価格!A:B,2,FALSE) -> 158.512 | E7: =B7*D7 -> 0 | F7: =C7*365/D7/10000 -> 0.02809251 | G7: =SQRT(K3) -> 0.076354173 | H7: =F7/G7 -> 0.36792371 | J7: AUDJPY | K7: 0.0028544664 | L7: 0.0037302063 | M7: 0.0040366021 | N7: 0.003248473 | O7: 0.0070094638 | P7: 0.0056901559 | Q7: 0.0066656122 | R7: 0.0029611979 | S7: 0.005571111 | T7: 0.0039568581 | U7: 0.0053266696 | V7: 0.0044212326 | W7: 0.0037622041 | X7: 0.0034728467 | Y7: 0.0049686731 | Z7: 0.0050618448 | AA7: 0.0026905684 | AB7: -0.0039223469
A8: EURJPY | B8: -22000 | C8: =195/3 -> 65 | D8: =VLOOKUP(A8,スポット価格!A:B,2,FALSE) -> 176.571 | E8: =B8*D8 -> -3884562 | F8: =C8*365/D8/10000 -> 0.013436521 | G8: =SQRT(L4) -> 0.063645311 | H8: =F8/G8 -> 0.21111565 | J8: NZDJPY | K8: 0.0025317004 | L8: 0.0038087194 | M8: 0.0041999515 | N8: 0.0036592088 | O8: 0.0056901559 | P8: 0.0069990349 | Q8: 0.0061087529 | R8: 0.002742377 | S8: 0.0047590902 | T8: 0.0041352909 | U8: 0.0051118271 | V8: 0.0045253416 | W8: 0.0035648233 | X8: 0.0032869428 | Y8: 0.0046893129 | Z8: 0.0053529774 | AA8: 0.0028378969 | AB8: -0.0023148594
A9: GBPJPY | B9: 12000 | C9: 150 | D9: =VLOOKUP(A9,スポット価格!A:B,2,FALSE) -> 211.607 | E9: =B9*D9 -> 2539284 | F9: =C9*365/D9/10000 -> 0.025873435 | G9: =SQRT(M5) -> 0.067277652 | H9: =F9/G9 -> 0.38457697 | J9: ZARJPY | K9: 0.0018106036 | L9: 0.004116818 | M9: 0.0045262662 | N9: 0.0032908565 | O9: 0.0066656122 | P9: 0.0061087529 | Q9: 0.012372726 | R9: 0.0018529518 | S9: 0.007449646 | T9: 0.0049259047 | U9: 0.0081828534 | V9: 0.006088179 | W9: 0.0027597855 | X9: 0.0034222592 | Y9: 0.004351265 | Z9: 0.0061958481 | AA9: 0.0054011567 | AB9: -0.0074859053
A10: CHFJPY | B10: -18000 | C10: -46 | D10: =VLOOKUP(A10,スポット価格!A:B,2,FALSE) -> 193.159 | E10: =B10*D10 -> -3476862 | F10: =C10*365/D10/10000 -> -0.0086923208 | G10: =SQRT(N6) -> 0.070054564 | H10: =F10/G10 -> -0.12407929 | J10: TRYJPY | K10: 0.0057585993 | L10: 0.0033084806 | M10: 0.0031230199 | N10: 0.0026230841 | O10: 0.0029611979 | P10: 0.002742377 | Q10: 0.0018529518 | R10: 0.0062657061 | S10: 0.003711888 | T10: 0.0032035175 | U10: 0.0019469545 | V10: 0.0027453031 | W10: 0.0043546595 | X10: 0.003877301 | Y10: 0.0031453082 | Z10: 0.0024667681 | AA10: -0.0020395476 | AB10: 0.0012095348
A11: AUDJPY | B11: 0.22355624 | C11: 106 | D11: =VLOOKUP(A11,スポット価格!A:B,2,FALSE) -> 108.794 | E11: =B11*D11 -> 24.321578 | F11: =C11*365/D11/10000 -> 0.035562623 | G11: =SQRT(O7) -> 0.083722541 | H11: =F11/G11 -> 0.4247676 | J11: MXNJPY | K11: 0.0034978369 | L11: 0.0040355364 | M11: 0.0039570434 | N11: 0.0030381169 | O11: 0.005571111 | P11: 0.0047590902 | Q11: 0.007449646 | R11: 0.003711888 | S11: 0.0093178969 | T11: 0.0044213372 | U11: 0.0061974749 | V11: 0.0048739747 | W11: 0.0036288888 | X11: 0.0037059661 | Y11: 0.0042329031 | Z11: 0.0049175108 | AA11: 0.0052101125 | AB11: -0.0046908788
A12: NZDJPY | B12: -13000 | C12: 32 | D12: =VLOOKUP(A12,スポット価格!A:B,2,FALSE) -> 87.832 | E12: =B12*D12 -> -1141816 | F12: =C12*365/D12/10000 -> 0.013298115 | G12: =SQRT(P8) -> 0.083660235 | H12: =F12/G12 -> 0.15895383 | J12: CZKJPY | K12: 0.0032766712 | L12: 0.0042689586 | M12: 0.0039934807 | N12: 0.003899758 | O12: 0.0039568581 | P12: 0.0041352909 | Q12: 0.0049259047 | R12: 0.0032035175 | S12: 0.0044213372 | T12: 0.004975512 | U12: 0.0055548257 | V12: 0.0049651906 | W12: 0.0035186691 | X12: 0.0033543286 | Y12: 0.0041037159 | Z12: 0.0046452218 | AA12: 0.0020957922 | AB12: -0.0028480264
A13: ZARJPY | B13: 10000 | C13: 16 | D13: =VLOOKUP(A13,スポット価格!A:B,2,FALSE) -> 9.575 | E13: =B13*D13 -> 95750 | F13: =C13*365/D13/10000 -> 0.060992167 | G13: =SQRT(Q9) -> 0.11123276 | H13: =F13/G13 -> 0.54832918 | J13: HUFJPY | K13: 0.001848718 | L13: 0.0045768108 | M13: 0.0041508506 | N13: 0.0039486957 | O13: 0.0053266696 | P13: 0.0051118271 | Q13: 0.0081828534 | R13: 0.0019469545 | S13: 0.0061974749 | T13: 0.0055548257 | U13: 0.012288812 | V13: 0.0065113656 | W13: 0.0024743116 | X13: 0.0032200914 | Y13: 0.0035937086 | Z13: 0.0061654733 | AA13: 0.0033404927 | AB13: -0.0099548495
A14: TRYJPY | B14: 1000000 | C14: =27-18 -> 9 | D14: =VLOOKUP(A14,スポット価格!A:B,2,FALSE) -> 3.152 | E14: =B14*D14 -> 3152000 | F14: =C14*365/D14/10000 -> 0.10421954 | G14: =SQRT(R10) -> 0.079156213 | H14: =F14/G14 -> 1.3166312 | J14: PLNJPY | K14: 0.0028284286 | L14: 0.0043297406 | M14: 0.0040623802 | N14: 0.003795734 | O14: 0.0044212326 | P14: 0.0045253416 | Q14: 0.006088179 | R14: 0.0027453031 | S14: 0.0048739747 | T14: 0.0049651906 | U14: 0.0065113656 | V14: 0.0059850813 | W14: 0.0032492859 | X14: 0.0032897094 | Y14: 0.0041368619 | Z14: 0.0051283631 | AA14: 0.0025204946 | AB14: -0.003902768
A15: MXNJPY | B15: 110000 | C15: 14 | D15: =VLOOKUP(A15,スポット価格!A:B,2,FALSE) -> 8.511 | E15: =B15*D15 -> 936210 | F15: =C15*365/D15/10000 -> 0.060039948 | G15: =SQRT(S11) -> 0.096529254 | H15: =F15/G15 -> 0.62198707 | J15: CADJPY | K15: 0.0044538899 | L15: 0.0035520592 | M15: 0.0034336324 | N15: 0.0034517729 | O15: 0.0037622041 | P15: 0.0035648233 | Q15: 0.0027597855 | R15: 0.0043546595 | S15: 0.0036288888 | T15: 0.0035186691 | U15: 0.0024743116 | V15: 0.0032492859 | W15: 0.0050261693 | X15: 0.0035378845 | Y15: 0.0043777509 | Z15: 0.0035734059 | AA15: -0.00029392344 | AB15: 0.0011140557
A16: CZKJPY | B16: 6.9557008e-05 | C16: 5 | D16: =VLOOKUP(A16,スポット価格!A:B,2,FALSE) -> 7.256 | E16: =B16*D16 -> 0.00050470565 | F16: =C16*365/D16/10000 -> 0.025151599 | G16: =SQRT(T12) -> 0.070537309 | H16: =F16/G16 -> 0.35657156 | J16: SGDJPY | K16: 0.0038852286 | L16: 0.0032356144 | M16: 0.0031971072 | N16: 0.0028104214 | O16: 0.0034728467 | P16: 0.0032869428 | Q16: 0.0034222592 | R16: 0.003877301 | S16: 0.0037059661 | T16: 0.0033543286 | U16: 0.0032200914 | V16: 0.0032897094 | W16: 0.0035378845 | X16: 0.0033642594 | Y16: 0.0032869967 | Z16: 0.0032121323 | AA16: 0.00054490679 | AB16: -0.0017207752
A17: HUFJPY | B17: 9000000 | C17: 1.2 | D17: =VLOOKUP(A17,スポット価格!A:B,2,FALSE) -> 0.483 | E17: =B17*D17 -> 4347000 | F17: =C17*365/D17/10000 -> 0.09068323 | G17: =SQRT(U13) -> 0.11085491 | H17: =F17/G17 -> 0.81803527 | J17: NOKJPY | K17: 0.0033459272 | L17: 0.0039675247 | M17: 0.0041181664 | N17: 0.0040291255 | O17: 0.0049686731 | P17: 0.0046893129 | Q17: 0.004351265 | R17: 0.0031453082 | S17: 0.0042329031 | T17: 0.0041037159 | U17: 0.0035937086 | V17: 0.0041368619 | W17: 0.0043777509 | X17: 0.0032869967 | Y17: 0.0077670328 | Z17: 0.0052282782 | AA17: 0.0027607436 | AB17: -0.0016242515
A18: PLNJPY | B18: 0.015178894 | C18: 29 | D18: =VLOOKUP(A18,スポット価格!A:B,2,FALSE) -> 40.174 | E18: =B18*D18 -> 0.60979688 | F18: =C18*365/D18/10000 -> 0.026347887 | G18: =SQRT(V14) -> 0.077363307 | H18: =F18/G18 -> 0.34057343 | J18: SEKJPY | K18: 0.0023882717 | L18: 0.00416185 | M18: 0.0042085889 | N18: 0.0043275789 | O18: 0.0050618448 | P18: 0.0053529774 | Q18: 0.0061958481 | R18: 0.0024667681 | S18: 0.0049175108 | T18: 0.0046452218 | U18: 0.0061654733 | V18: 0.0051283631 | W18: 0.0035734059 | X18: 0.0032121323 | Y18: 0.0052282782 | Z18: 0.0067851467 | AA18: 0.0032536335 | AB18: -0.0037527846
A19: CADJPY | B19: 0.078909427 | C19: 38 | D19: =VLOOKUP(A19,スポット価格!A:B,2,FALSE) -> 112.18 | E19: =B19*D19 -> 8.8520595 | F19: =C19*365/D19/10000 -> 0.012364058 | G19: =SQRT(W15) -> 0.070895481 | H19: =F19/G19 -> 0.17439839 | J19: GOLD | K19: -0.001640186 | L19: 0.0018283227 | M19: 0.0014263363 | N19: 0.0013543382 | O19: 0.0026905684 | P19: 0.0028378969 | Q19: 0.0054011567 | R19: -0.0020395476 | S19: 0.0052101125 | T19: 0.0020957922 | U19: 0.0033404927 | V19: 0.0025204946 | W19: -0.00029392344 | X19: 0.00054490679 | Y19: 0.0027607436 | Z19: 0.0032536335 | AA19: 0.079059283 | AB19: -0.026092005
A20: SGDJPY | B20: -2.759895e-05 | C20: 24 | D20: =VLOOKUP(A20,スポット価格!A:B,2,FALSE) -> 123.561 | E20: =B20*D20 -> -0.0034101539 | F20: =C20*365/D20/10000 -> 0.0070896157 | G20: =SQRT(X16) -> 0.058002236 | H20: =F20/G20 -> 0.12223004 | J20: WTI | K20: 0.0014455779 | L20: -0.0026206844 | M20: -0.0019047373 | N20: -0.0010113094 | O20: -0.0039223469 | P20: -0.0023148594 | Q20: -0.0074859053 | R20: 0.0012095348 | S20: -0.0046908788 | T20: -0.0028480264 | U20: -0.0099548495 | V20: -0.003902768 | W20: 0.0011140557 | X20: -0.0017207752 | Y20: -0.0016242515 | Z20: -0.0037527846 | AA20: -0.026092005 | AB20: 0.31766807
A21: NOKJPY | B21: 0.40980887 | C21: 12 | D21: =VLOOKUP(A21,スポット価格!A:B,2,FALSE) -> 16.73 | E21: =B21*D21 -> 6.8561024 | F21: =C21*365/D21/10000 -> 0.026180514 | G21: =SQRT(Y17) -> 0.088130771 | H21: =F21/G21 -> 0.29706439
A22: SEKJPY | B22: -0.00022381392 | C22: 4 | D22: =VLOOKUP(A22,スポット価格!A:B,2,FALSE) -> 16.002 | E22: =B22*D22 -> -0.0035814703 | F22: =C22*365/D22/10000 -> 0.0091238595 | G22: =SQRT(Z18) -> 0.082372002 | H22: =F22/G22 -> 0.11076409
A23: GOLD | B23: 0 | C23: -80 | D23: 4042 | E23: =B23*D23*D7 -> 0 | F23: =C23*365/D23/D7 -> -0.045574761 | G23: =SQRT(AA19) -> 0.28117483 | H23: =F23/G23 -> -0.16208692
A24: WTI | B24: 0 | C24: 0 | D24: 95.332 | E24: =B24*D24*10*D7 -> 0 | F24: =C24*365/D24/D7/10 -> 0 | G24: =SQRT(AB20) -> 0.5636205 | H24: =F24/G24 -> 0
A26: スワップポイント
B27: １日 | C27: １か月 | D27: １年
A28: 合算（円） | B28: =SUMPRODUCT(B7:B24,C7:C24)/10000 -> 2228.2032 | C28: =B28*365/12 -> 67774.514 | D28: =B28*365 -> 813294.17 | K28: 中間ベクトル計算 | L28: 寄与額 | M28: 寄与度（％）
A29: 評価損益のブレ | K29: {=MMULT(K3:Z18, E7:E22)} -> 11879.832 | L29: =K29*E7 -> 0 | M29: =L29/$D$31/$D$31 -> 0
B30: １日 | C30: １か月 | D30: １年 | K30: 11421.488 | L30: =K30*E8 -> -4.4367476e+10 | M30: =L30/$D$31/$D$31 -> -0.20954507
A31: リスク額 | B31: =D31/SQRT(250) -> 29102.053 | C31: =D31/SQRT(12) -> 132832.09 | D31: {=SQRT(MMULT(MMULT(TRANSPOSE($E$7:$E$24), K3:AB20), 最適化計算_GMO!$E$7:$E$24)/1)} -> 460143.87 | K31: 12354.748 | L31: =K31*E9 -> 3.1372213e+10 | M31: =L31/$D$31/$D$31 -> 0.14816918
A32: シャープレシオ | K32: 2091.1482 | L32: =K32*E10 -> -7.2706338e+09 | M32: =L32/$D$31/$D$31 -> -0.03433879
D33: １年 | K33: 16311.189 | L33: =K33*E11 -> 396713.85 | M33: =L33/$D$31/$D$31 -> 1.873657e-06
A34: シャープレシオ | D34: =D28/D31 -> 1.767478 | K34: 11061.199 | L34: =K34*E12 -> -1.2629854e+10 | M34: =L34/$D$31/$D$31 -> -0.059650085
K35: 26655.224 | L35: =K35*E13 -> 2.5522377e+09 | M35: =L35/$D$31/$D$31 -> 0.012054074
K36: 14692.422 | L36: =K36*E14 -> 4.6310516e+10 | M36: =L36/$D$31/$D$31 -> 0.21872193
K37: 26451.953 | L37: =K37*E15 -> 2.4764583e+10 | M37: =L37/$D$31/$D$31 -> 0.11696172
K38: 14132.314 | L38: =K38*E16 -> 7.1326587 | M38: =L38/$D$31/$D$31 -> 3.3687142e-11
K39: 39337.54 | L39: =K39*E17 -> 1.7100029e+11 | M39: =L39/$D$31/$D$31 -> 0.80762464
K40: 17236.317 | L40: =K40*E18 -> 10510.652 | M40: =L40/$D$31/$D$31 -> 4.9641214e-08
K41: 6992.6015 | L41: =K41*E19 -> 61898.924 | M41: =L41/$D$31/$D$31 -> 2.923451e-07
K42: 12041.262 | L42: =K42*E20 -> -41.062555 | M42: =L42/$D$31/$D$31 -> -1.9393611e-10
K43: 5597.65 | L43: =K43*E21 -> 38378.061 | M43: =L43/$D$31/$D$31 -> 1.812574e-07
K44: 13135.163 | L44: =K44*E22 -> -47.043195 | M44: =L44/$D$31/$D$31 -> -2.2218234e-10
K45: #N/A | L45: =K45*#REF! -> #N/A | M45: =L45/$D$31/$D$31 -> #N/A
K46: #N/A | L46: =K46*#REF! -> #N/A | M46: =L46/$D$31/$D$31 -> #N/A

Sheet スポット価格
A1: 通貨ペア | B1: BID | C1: ASK | D1: 前日比 | E1: 高値 | F1: 安値 | G1: スプレッド
A2: USDJPY LIGHT | B2: 158.5122 | C2: 158.5137 | D2: 0.822 | E2: 158.5712 | F2: 157.2587 | G2: 0.15
A3: EURJPY LIGHT | B3: 176.5712 | C3: 176.5747 | D3: -0.319 | E3: 177.1672 | F3: 176.1647 | G3: 0.35
A4: GBPJPY LIGHT | B4: 211.6076 | C4: 211.6154 | D4: -0.462 | E4: 212.4636 | F4: 211.1944 | G4: 0.78
A5: AUDJPY LIGHT | B5: 108.7946 | C5: 108.7984 | D5: -0.444 | E5: 109.5386 | F5: 108.2414 | G5: 0.38
A6: NZDJPY LIGHT | B6: 87.8326 | C6: 87.8384 | D6: -0.335 | E6: 88.3246 | F6: 87.5474 | G6: 0.58
A7: ZARJPY LIGHT | B7: 9.5751 | C7: 9.5829 | D7: 0.015 | E7: 9.6011 | F7: 9.5199 | G7: 0.78
A8: TRYJPY LIGHT | B8: 3.1521 | C8: 3.1639 | D8: 0.027 | E8: 3.1601 | F8: 3.1429 | G8: 1.18
A9: MXNJPY LIGHT | B9: 8.5116 | C9: 8.5134 | D9: 0.104 | E9: 8.5226 | F9: 8.3774 | G9: 0.18
A10: CZKJPY LIGHT | B10: 7.2562 | C10: 7.2577 | D10: -0.007 | E10: 7.2782 | F10: 7.2377 | G10: 0.15
A11: HUFJPY LIGHT | B11: 0.4831 | C11: 0.4889 | D11: 0.001 | E11: 0.4841 | F11: 0.4859 | G11: 0.58
A12: EURUSD LIGHT | B12: 1.113916 | C12: 1.113934 | D12: -0.00777 | E12: 1.123466 | F12: 1.113114 | G12: 0.18
A13: GBPUSD LIGHT | B13: 1.334976 | C13: 1.335044 | D13: -0.00978 | E13: 1.346336 | F13: 1.334274 | G13: 0.68
... A52: USDJPYラージ | B52: 158.504 | C52: 158.522 | D52: 0.822 | E52: 158.543 | F52: 157.263 | G52: 1.8
