Workbook

Sheet スワップ計算_みんF
A1: 証拠金 | B1: 100000 | K1: ※共分散行列:2024/11/21-2025/11/21の日次データより算出、年率換算
A2: レバレッジ | B2: {=SUM(ABS(E6:E21))/B1} -> 102.4364 | L2: USDJPY | M2: EURJPY | N2: GBPJPY | O2: CHFJPY | P2: AUDJPY | Q2: NZDJPY | R2: ZARJPY | S2: TRYJPY | T2: MXNJPY | U2: CZKJPY | V2: HUFJPY | W2: PLNJPY | X2: CADJPY | Y2: SGDJPY | Z2: NOKJPY | AA2: SEKJPY | AB2: TOPIX | AC2: SP500
A3: 今日の損益 | B3: =SUM(I6:I21) -> -54141.899 | K3: USDJPY | L3: 0.01004663 | M3: 0.00482734 | N3: 0.0058143 | O3: 0.00387304 | P3: 0.00689783 | Q3: 0.00570364 | R3: 0.00813264 | S3: 0.01012085 | T3: 0.00984451 | U3: 0.00431843 | V3: 0.00478919 | W3: 0.00493161 | X3: 0.00803427 | Y3: 0.00693078 | Z3: 0.00605369 | AA3: 0.00470436 | AB3: -0.0010751 | AC3: 0.01503684
A4: ポジション | K4: EURJPY | L4: 0.00482734 | M4: 0.0060873 | N4: 0.00530396 | O4: 0.00473487 | P4: 0.00616107 | Q4: 0.00588389 | R4: 0.00598042 | S4: 0.00509436 | T4: 0.00727464 | U4: 0.00613692 | V4: 0.00666078 | W4: 0.00668628 | X4: 0.00536797 | Y4: 0.00501266 | Z4: 0.00597651 | AA4: 0.00634818 | AB4: 0.00049842 | AC4: 0.00827782
B5: 保有量 | C5: スワップポイント | D5: 価格 | E5: 円貨換算額 | F5: 利回り（年率） | G5: リスク | H5: シャープレシオ | I5: 今日の損益 | K5: GBPJPY | L5: 0.0058143 | M5: 0.00530396 | N5: 0.00689549 | O5: 0.00384245 | P5: 0.00712164 | Q5: 0.00656544 | R5: 0.00737108 | S5: 0.00588698 | T5: 0.00859167 | U5: 0.00533646 | V5: 0.00620134 | W5: 0.00614213 | X5: 0.00593869 | Y5: 0.00549576 | Z5: 0.00685365 | AA5: 0.00619693 | AB5: 0.00158577 | AC5: 0.01203397
A6: USDJPY | B6: 0 | C6: 164 | D6: =VLOOKUP(A6,スポット価格!A:B,2,FALSE) -> 158.266 | E6: =B6*D6 -> 0 | F6: =C6*365/D6/10000 -> 0.0378224 | G6: =SQRT(L3) -> 0.10023288 | H6: =F6/G6 -> 0.37734525 | I6: =スポット価格!D2/スポット価格!B2*E6 -> 0 | K6: CHFJPY | L6: 0.00387304 | M6: 0.00473487 | N6: 0.00384245 | O6: 0.00586565 | P6: 0.00398877 | Q6: 0.00403721 | R6: 0.00389219 | S6: 0.00385559 | T6: 0.00492787 | U6: 0.00457294 | V6: 0.00459479 | W6: 0.00485347 | X6: 0.00423647 | Y6: 0.00378256 | Z6: 0.0037274 | AA6: 0.00464593 | AB6: 0.00217928 | AC6: 0.00385755
A7: EURJPY | B7: 0 | C7: 100 | D7: =VLOOKUP(A7,スポット価格!A:B,2,FALSE) -> 177.311 | E7: =B7*D7 -> 0 | F7: =C7*365/D7/10000 -> 0.020585299 | G7: =SQRT(M4) -> 0.078021151 | H7: =F7/G7 -> 0.26384255 | I7: =スポット価格!D3/スポット価格!B3*E7 -> 0 | K7: AUDJPY | L7: 0.00689783 | M7: 0.00616107 | N7: 0.00712164 | O7: 0.00398877 | P7: 0.0131272 | Q7: 0.01107398 | R7: 0.01085394 | S7: 0.00697161 | T7: 0.01214216 | U7: 0.00657965 | V7: 0.00764016 | W7: 0.00750481 | X7: 0.0084453 | Y7: 0.00730231 | Z7: 0.01024645 | AA7: 0.00792485 | AB7: 0.00203647 | AC7: 0.02006418
A8: GBPJPY | B8: 0 | C8: 205 | D8: =VLOOKUP(A8,スポット価格!A:B,2,FALSE) -> 209.509 | E8: =B8*D8 -> 0 | F8: =C8*365/D8/10000 -> 0.035714456 | G8: =SQRT(N5) -> 0.083039087 | H8: =F8/G8 -> 0.43009211 | I8: =スポット価格!D4/スポット価格!B4*E8 -> 0 | K8: NZDJPY | L8: 0.00570364 | M8: 0.00588389 | N8: 0.00656544 | O8: 0.00403721 | P8: 0.01107398 | Q8: 0.01074056 | R8: 0.00919943 | S8: 0.00582028 | T8: 0.01017922 | U8: 0.00623013 | V8: 0.00701253 | W8: 0.00702356 | X8: 0.00727072 | Y8: 0.00638214 | Z8: 0.00900236 | AA8: 0.00754926 | AB8: 0.00239594 | AC8: 0.01573584
A9: CHFJPY | B9: 0 | C9: -20 | D9: =VLOOKUP(A9,スポット価格!A:B,2,FALSE) -> 190.677 | E9: =B9*D9 -> 0 | F9: =C9*365/D9/10000 -> -0.0038284638 | G9: =SQRT(O6) -> 0.076587532 | H9: =F9/G9 -> -0.049988082 | I9: =スポット価格!D5/スポット価格!B5*E9 -> 0 | K9: ZARJPY | L9: 0.00813264 | M9: 0.00598042 | N9: 0.00737108 | O9: 0.00389219 | P9: 0.01085394 | Q9: 0.00919943 | R9: 0.01731263 | S9: 0.00830567 | T9: 0.01324833 | U9: 0.00625672 | V9: 0.00708291 | W9: 0.00710842 | X9: 0.00852487 | Y9: 0.0077691 | Z9: 0.00966565 | AA9: 0.00713967 | AB9: 0.00052012 | AC9: 0.01999248
A10: AUDJPY | B10: 0 | C10: 100 | D10: =VLOOKUP(A10,スポット価格!A:B,2,FALSE) -> 110.585 | E10: =B10*D10 -> 0 | F10: =C10*365/D10/10000 -> 0.033006285 | G10: =SQRT(P7) -> 0.11457399 | H10: =F10/G10 -> 0.28807833 | I10: =スポット価格!D6/スポット価格!B6*E10 -> 0 | K10: TRYJPY | L10: 0.01012085 | M10: 0.00509436 | N10: 0.00588698 | O10: 0.00385559 | P10: 0.00697161 | Q10: 0.00582028 | R10: 0.00830567 | S10: 0.01268362 | T10: 0.01031788 | U10: 0.00451073 | V10: 0.00521445 | W10: 0.00530619 | X10: 0.00815351 | Y10: 0.00699109 | Z10: 0.00613221 | AA10: 0.00494707 | AB10: -0.00155853 | AC10: 0.01544357
A11: NZDJPY | B11: 0.03261181 | C11: 52 | D11: =VLOOKUP(A11,スポット価格!A:B,2,FALSE) -> 88.867 | E11: =B11*D11 -> 2.8981137 | F11: =C11*365/D11/10000 -> 0.021357759 | G11: =SQRT(Q8) -> 0.10363667 | H11: =F11/G11 -> 0.20608303 | I11: =スポット価格!D7/スポット価格!B7*E11 -> 0.021164929 | K11: MXNJPY | L11: 0.00984451 | M11: 0.00727464 | N11: 0.00859167 | O11: 0.00492787 | P11: 0.01214216 | Q11: 0.01017922 | R11: 0.01324833 | S11: 0.01031788 | T11: 0.01862174 | U11: 0.00746098 | V11: 0.00857154 | W11: 0.00865052 | X11: 0.01036824 | Y11: 0.00857907 | Z11: 0.01096379 | AA11: 0.00825857 | AB11: -0.00081426 | AC11: 0.0222832
A12: ZARJPY | B12: 0 | C12: 16.1 | D12: =VLOOKUP(A12,スポット価格!A:B,2,FALSE) -> 9.585 | E12: =B12*D12 -> 0 | F12: =C12*365/D12/10000 -> 0.061309338 | G12: =SQRT(R9) -> 0.13157747 | H12: =F12/G12 -> 0.46595621 | I12: =スポット価格!D8/スポット価格!B8*E12 -> 0 | K12: CZKJPY | L12: 0.00431843 | M12: 0.00613692 | N12: 0.00533646 | O12: 0.00457294 | P12: 0.00657965 | Q12: 0.00623013 | R12: 0.00625672 | S12: 0.00451073 | T12: 0.00746098 | U12: 0.00721916 | V12: 0.00723273 | W12: 0.00727663 | X12: 0.00511744 | Y12: 0.00489758 | Z12: 0.00613405 | AA12: 0.00660931 | AB12: 0.00119403 | AC12: 0.00933392
A13: TRYJPY | B13: 1600000 | C13: 12 | D13: =VLOOKUP(A13,スポット価格!A:B,2,FALSE) -> 3.203 | E13: =B13*D13 -> 5124800 | F13: =C13*365/D13/10000 -> 0.1367468 | G13: =SQRT(S10) -> 0.11262158 | H13: =F13/G13 -> 1.2142149 | I13: =スポット価格!D9/スポット価格!B9*E13 -> -51286.166 | K13: HUFJPY | L13: 0.00478919 | M13: 0.00666078 | N13: 0.00620134 | O13: 0.00459479 | P13: 0.00764016 | Q13: 0.00701253 | R13: 0.00708291 | S13: 0.00521445 | T13: 0.00857154 | U13: 0.00723273 | V13: 0.00916952 | W13: 0.00828836 | X13: 0.00568129 | Y13: 0.00547665 | Z13: 0.007003 | AA13: 0.0073285 | AB13: 0.00184125 | AC13: 0.01112916
A14: MXNJPY | B14: 0 | C14: 17.1 | D14: =VLOOKUP(A14,スポット価格!A:B,2,FALSE) -> 8.593 | E14: =B14*D14 -> 0 | F14: =C14*365/D14/10000 -> 0.072634703 | G14: =SQRT(T11) -> 0.1364615 | H14: =F14/G14 -> 0.53227251 | I14: =スポット価格!D10/スポット価格!B10*E14 -> 0 | K14: PLNJPY | L14: 0.00493161 | M14: 0.00668628 | N14: 0.00614213 | O14: 0.00485347 | P14: 0.00750481 | Q14: 0.00702356 | R14: 0.00710842 | S14: 0.00530619 | T14: 0.00865052 | U14: 0.00727663 | V14: 0.00828836 | W14: 0.00909457 | X14: 0.00565849 | Y14: 0.00556311 | Z14: 0.00706251 | AA14: 0.00766431 | AB14: 0.00210462 | AC14: 0.01096773
A15: CZKJPY | B15: 0 | C15: 8 | D15: =VLOOKUP(A15,スポット価格!A:B,2,FALSE) -> 7.27 | E15: =B15*D15 -> 0 | F15: =C15*365/D15/10000 -> 0.040165062 | G15: =SQRT(U12) -> 0.08496564 | H15: =F15/G15 -> 0.47272123 | I15: =スポット価格!D11/スポット価格!B11*E15 -> 0 | K15: CADJPY | L15: 0.00803427 | M15: 0.00536797 | N15: 0.00593869 | O15: 0.00423647 | P15: 0.0084453 | Q15: 0.00727072 | R15: 0.00852487 | S15: 0.00815351 | T15: 0.01036824 | U15: 0.00511744 | V15: 0.00568129 | W15: 0.00565849 | X15: 0.00902269 | Y15: 0.00675324 | Z15: 0.00735085 | AA15: 0.00600108 | AB15: -0.00130827 | AC15: 0.0150263
A16: HUFJPY | B16: 8300000 | C16: 1 | D16: =VLOOKUP(A16,スポット価格!A:B,2,FALSE) -> 0.483 | E16: =B16*D16 -> 4008900 | F16: =C16*365/D16/10000 -> 0.075569358 | G16: =SQRT(V13) -> 0.095757611 | H16: =F16/G16 -> 0.78917339 | I16: =スポット価格!D12/スポット価格!B12*E16 -> -2862.769 | K16: SGDJPY | L16: 0.00693078 | M16: 0.00501266 | N16: 0.00549576 | O16: 0.00378256 | P16: 0.00730231 | Q16: 0.00638214 | R16: 0.0077691 | S16: 0.00699109 | T16: 0.00857907 | U16: 0.00489758 | V16: 0.00547665 | W16: 0.00556311 | X16: 0.00675324 | Y16: 0.00624924 | Z16: 0.00634149 | AA16: 0.00550852 | AB16: -0.00055597 | AC16: 0.0130716
A17: PLNJPY | B17: 0 | C17: 47 | D17: =VLOOKUP(A17,スポット価格!A:B,2,FALSE) -> 40.41 | E17: =B17*D17 -> 0 | F17: =C17*365/D17/10000 -> 0.042452363 | G17: =SQRT(W14) -> 0.095365455 | H17: =F17/G17 -> 0.44515452 | I17: =スポット価格!D13/スポット価格!B13*E17 -> 0 | K17: NOKJPY | L17: 0.00605369 | M17: 0.00597651 | N17: 0.00685365 | O17: 0.0037274 | P17: 0.01024645 | Q17: 0.00900236 | R17: 0.00966565 | S17: 0.00613221 | T17: 0.01096379 | U17: 0.00613405 | V17: 0.007003 | W17: 0.00706251 | X17: 0.00735085 | Y17: 0.00634149 | Z17: 0.01203478 | AA17: 0.00838825 | AB17: 0.00081431 | AC17: 0.01589307
A18: CADJPY | B18: -10000 | C18: 50 | D18: =VLOOKUP(A18,スポット価格!A:B,2,FALSE) -> 110.993 | E18: =B18*D18 -> -1109930 | F18: =C18*365/D18/10000 -> 0.016442478 | G18: =SQRT(X15) -> 0.094987841 | H18: =F18/G18 -> 0.17310087 | I18: =スポット価格!D20/スポット価格!B14*E18 -> 7.0130666 | K18: SEKJPY | L18: 0.00470436 | M18: 0.00634818 | N18: 0.00619693 | O18: 0.00464593 | P18: 0.00792485 | Q18: 0.00754926 | R18: 0.00713967 | S18: 0.00494707 | T18: 0.00825857 | U18: 0.00660931 | V18: 0.0073285 | W18: 0.00766431 | X18: 0.00600108 | Y18: 0.00550852 | Z18: 0.00838825 | AA18: 0.0099386 | AB18: 0.00120353 | AC18: 0.01070474
A19: SGDJPY | B19: 0 | C19: 40 | D19: =VLOOKUP(A19,スポット価格!A:B,2,FALSE) -> 123.604 | E19: =B19*D19 -> 0 | F19: =C19*365/D19/10000 -> 0.011811915 | G19: =SQRT(Y16) -> 0.079052135 | H19: =F19/G19 -> 0.14941931 | I19: =スポット価格!D27/スポット価格!B15*E19 -> 0 | K19: TOPIX | L19: -0.0010751 | M19: 0.00049842 | N19: 0.00158577 | O19: 0.00217928 | P19: 0.00203647 | Q19: 0.00239594 | R19: 0.00052012 | S19: -0.00155853 | T19: -0.00081426 | U19: 0.00119403 | V19: 0.00184125 | W19: 0.00210462 | X19: -0.00130827 | Y19: -0.00055597 | Z19: 0.00081431 | AA19: 0.00120353 | AB19: 0.03884276 | AC19: -0.00196933
A20: NOKJPY | B20: 0.40952424 | C20: 14 | D20: =VLOOKUP(A20,スポット価格!A:B,2,FALSE) -> 16.553 | E20: =B20*D20 -> 6.7788547 | F20: =C20*365/D20/10000 -> 0.030870537 | G20: =SQRT(Z17) -> 0.10970314 | H20: =F20/G20 -> 0.28140066 | I20: =スポット価格!D31/スポット価格!B16*E20 -> 0.0018119311 | K20: SP500 | L20: 0.01503684 | M20: 0.00827782 | N20: 0.01203397 | O20: 0.00385755 | P20: 0.02006418 | Q20: 0.01573584 | R20: 0.01999248 | S20: 0.01544357 | T20: 0.0222832 | U20: 0.00933392 | V20: 0.01112916 | W20: 0.01096773 | X20: 0.0150263 | Y20: 0.0130716 | Z20: 0.01589307 | AA20: 0.01070474 | AB20: -0.00196933 | AC20: 0.05428936
A21: SEKJPY | B21: 0.0043843432 | C21: 5 | D21: =VLOOKUP(A21,スポット価格!A:B,2,FALSE) -> 15.831 | E21: =B21*D21 -> 0.069408537 | F21: =C21*365/D21/10000 -> 0.011528015 | G21: =SQRT(AA18) -> 0.099692527 | H21: =F21/G21 -> 0.11563569 | I21: =スポット価格!D32/スポット価格!B17*E21 -> 5.6488388e-06
A23: スワップポイント
B24: １日 | C24: １か月 | D24: １年
A25: 合算（円） | B25: =SUMPRODUCT(B6:B21,C6:C21)/10000 -> 2700.0007 | C25: =B25*365/12 -> 82125.023 | D25: =B25*365 -> 985500.27
A26: 評価損益のブレ
B27: １日 | C27: １か月 | D27: １年
A28: リスク額 | B28: {=SQRT(MMULT(MMULT(TRANSPOSE($E$6:$E$21), $L$3:$AA$18), スワップ計算_みんF!$E$6:$E$21)/252)} -> 47247.379 | C28: {=SQRT(MMULT(MMULT(TRANSPOSE($E$6:$E$21), $L$3:$AA$18), スワップ計算_みんF!$E$6:$E$21)/12)} -> 216514.69 | D28: {=SQRT(MMULT(MMULT(TRANSPOSE($E$6:$E$21), $L$3:$AA$18), スワップ計算_みんF!$E$6:$E$21)/1)} -> 750028.89
A29: シャープレシオ
D30: １年
A31: シャープレシオ | D31: =D25/D28 -> 1.3139497

Sheet 最適化計算_みんなのFX
A1: 証拠金 | B1: 1000000 | J1: ※共分散行列:2025/10/10-2026/10/9の日次データより算出、年率換算
A2: レバレッジ | B2: {=SUM(ABS(E7:E22))/B1} -> 19.848543 | K2: USDJPY | L2: EURJPY | M2: GBPJPY | N2: CHFJPY | O2: AUDJPY | P2: NZDJPY | Q2: ZARJPY | R2: TRYJPY | S2: MXNJPY | T2: CZKJPY | U2: HUFJPY | V2: PLNJPY | W2: CADJPY | X2: SGDJPY | Y2: NOKJPY | Z2: SEKJPY
A3: 円ポジション | B3: =-SUM(E7:E22) -> -383657 | J3: USDJPY | K3: 0.0058975911 | L3: 0.0034897681 | M3: 0.0032904604 | N3: 0.0028894872 | O3: 0.0030818782 | P3: 0.002709794 | Q3: 0.0019447663 | R3: 0.0057903952 | S3: 0.0035743714 | T3: 0.0033523281 | U3: 0.0019496858 | V3: 0.002874416 | W3: 0.0045495755 | X3: 0.003970818 | Y3: 0.0035037309 | Z3: 0.0025467911
J4: EURJPY | K4: 0.0034897681 | L4: 0.0040186627 | M4: 0.0037919517 | N4: 0.0036035736 | O4: 0.003928877 | P4: 0.0039078252 | Q4: 0.0041261407 | R4: 0.0034655066 | S4: 0.0042503662 | T4: 0.0042207368 | U4: 0.0044870585 | V4: 0.0042251883 | W4: 0.0035898083 | X4: 0.003309999 | Y4: 0.0040622893 | Z4: 0.0041863091
A5: ポジション | J5: GBPJPY | K5: 0.0032904604 | L5: 0.0037919517 | M5: 0.0046898048 | N5: 0.00346901 | O5: 0.0042795783 | P5: 0.0043609577 | Q5: 0.0046038503 | R5: 0.0033262963 | S5: 0.0043026901 | T5: 0.0040557166 | U5: 0.0042090726 | V5: 0.0040531694 | W5: 0.0034981783 | X5: 0.0033069548 | Y5: 0.0042648288 | Z5: 0.0043056881
B6: 保有量 | C6: スワップポイント | D6: 価格 | E6: 円貨換算額 | F6: 利回り（年率） | G6: リスク | H6: シャープレシオ | J6: CHFJPY | K6: 0.0028894872 | L6: 0.0036035736 | M6: 0.00346901 | N6: 0.0048340854 | O6: 0.0035265034 | P6: 0.003778413 | Q6: 0.0033383667 | R6: 0.0027645634 | S6: 0.0032477256 | T6: 0.0038898219 | U6: 0.0038906969 | V6: 0.0037574376 | W6: 0.003508442 | X6: 0.0029218178 | Y6: 0.0041618084 | Z6: 0.0043101015
A7: USDJPY | B7: 0 | C7: 120 | D7: =VLOOKUP(A7,スポット価格!A:B,2,FALSE) -> 158.266 | E7: =B7*D7 -> 0 | F7: =C7*365/D7/10000 -> 0.027674927 | G7: =SQRT(K3) -> 0.076795775 | H7: =F7/G7 -> 0.36037044 | J7: AUDJPY | K7: 0.0030818782 | L7: 0.003928877 | M7: 0.0042795783 | N7: 0.0035265034 | O7: 0.0071502821 | P7: 0.0059327874 | Q7: 0.006952705 | R7: 0.0031038602 | S7: 0.0059308122 | T7: 0.0041689446 | U7: 0.0054998266 | V7: 0.0046004334 | W7: 0.0039559393 | X7: 0.0036809785 | Y7: 0.0051332437 | Z7: 0.0053649201
A8: EURJPY | B8: 0 | C8: 61 | D8: =VLOOKUP(A8,スポット価格!A:B,2,FALSE) -> 177.311 | E8: =B8*D8 -> 0 | F8: =C8*365/D8/10000 -> 0.012557033 | G8: =SQRT(L4) -> 0.063392923 | H8: =F8/G8 -> 0.19808256 | J8: NZDJPY | K8: 0.002709794 | L8: 0.0039078252 | M8: 0.0043609577 | N8: 0.003778413 | O8: 0.0059327874 | P8: 0.0069087985 | Q8: 0.0063329544 | R8: 0.0028560807 | S8: 0.0052035998 | T8: 0.0042198478 | U8: 0.0051975976 | V8: 0.0045854117 | W8: 0.0036967006 | X8: 0.0034228927 | Y8: 0.004875876 | Z8: 0.0055455946
A9: GBPJPY | B9: 0 | C9: 144 | D9: =VLOOKUP(A9,スポット価格!A:B,2,FALSE) -> 209.509 | E9: =B9*D9 -> 0 | F9: =C9*365/D9/10000 -> 0.025087228 | G9: =SQRT(M5) -> 0.068482149 | H9: =F9/G9 -> 0.36633237 | J9: ZARJPY | K9: 0.0019447663 | L9: 0.0041261407 | M9: 0.0046038503 | N9: 0.0033383667 | O9: 0.006952705 | P9: 0.0063329544 | Q9: 0.012300463 | R9: 0.0019885392 | S9: 0.0075945742 | T9: 0.0048831626 | U9: 0.0080653869 | V9: 0.0059006079 | W9: 0.0029024286 | X9: 0.0035171787 | Y9: 0.004549675 | Z9: 0.0062651844
A10: CHFJPY | B10: 0 | C10: -25 | D10: =VLOOKUP(A10,スポット価格!A:B,2,FALSE) -> 190.677 | E10: =B10*D10 -> 0 | F10: =C10*365/D10/10000 -> -0.0047855798 | G10: =SQRT(N6) -> 0.069527587 | H10: =F10/G10 -> -0.068829942 | J10: TRYJPY | K10: 0.0057903952 | L10: 0.0034655066 | M10: 0.0033262963 | N10: 0.0027645634 | O10: 0.0031038602 | P10: 0.0028560807 | Q10: 0.0019885392 | R10: 0.0062508366 | S10: 0.0039837421 | T10: 0.0033390749 | U10: 0.0021143112 | V10: 0.0029269485 | W10: 0.0044435918 | X10: 0.0039601223 | Y10: 0.0034200088 | Z10: 0.0026355405
A11: AUDJPY | B11: 0 | C11: 98 | D11: =VLOOKUP(A11,スポット価格!A:B,2,FALSE) -> 110.585 | E11: =B11*D11 -> 0 | F11: =C11*365/D11/10000 -> 0.032346159 | G11: =SQRT(O7) -> 0.084559341 | H11: =F11/G11 -> 0.38252615 | J11: MXNJPY | K11: 0.0035743714 | L11: 0.0042503662 | M11: 0.0043026901 | N11: 0.0032477256 | O11: 0.0059308122 | P11: 0.0052035998 | Q11: 0.0075945742 | R11: 0.0039837421 | S11: 0.008916353 | T11: 0.0046560195 | U11: 0.0064576776 | V11: 0.0052536335 | W11: 0.0037721139 | X11: 0.0038338323 | Y11: 0.004746433 | Z11: 0.0052821835
A12: NZDJPY | B12: 0 | C12: 32 | D12: =VLOOKUP(A12,スポット価格!A:B,2,FALSE) -> 88.867 | E12: =B12*D12 -> 0 | F12: =C12*365/D12/10000 -> 0.013143237 | G12: =SQRT(P8) -> 0.083119182 | H12: =F12/G12 -> 0.15812519 | J12: CZKJPY | K12: 0.0033523281 | L12: 0.0042207368 | M12: 0.0040557166 | N12: 0.0038898219 | O12: 0.0041689446 | P12: 0.0042198478 | Q12: 0.0048831626 | R12: 0.0033390749 | S12: 0.0046560195 | T12: 0.0049091501 | U12: 0.0054617666 | V12: 0.0048044283 | W12: 0.0035398231 | X12: 0.0034185023 | Y12: 0.0042526429 | Z12: 0.0046507193
A13: ZARJPY | B13: 120000 | C13: 14.6 | D13: =VLOOKUP(A13,スポット価格!A:B,2,FALSE) -> 9.585 | E13: =B13*D13 -> 1150200 | F13: =C13*365/D13/10000 -> 0.055597287 | G13: =SQRT(Q9) -> 0.11090745 | H13: =F13/G13 -> 0.50129443 | J13: HUFJPY | K13: 0.0019496858 | L13: 0.0044870585 | M13: 0.0042090726 | N13: 0.0038906969 | O13: 0.0054998266 | P13: 0.0051975976 | Q13: 0.0080653869 | R13: 0.0021143112 | S13: 0.0064576776 | T13: 0.0054617666 | U13: 0.012017365 | V13: 0.0063445145 | W13: 0.0025150858 | X13: 0.0032857623 | Y13: 0.0037323443 | Z13: 0.0060959442
A14: TRYJPY | B14: 2000000 | C14: =24.5-18 -> 6.5 | D14: =VLOOKUP(A14,スポット価格!A:B,2,FALSE) -> 3.203 | E14: =B14*D14 -> 6406000 | F14: =C14*365/D14/10000 -> 0.074071183 | G14: =SQRT(R10) -> 0.079062232 | H14: =F14/G14 -> 0.93687189 | J14: PLNJPY | K14: 0.002874416 | L14: 0.0042251883 | M14: 0.0040531694 | N14: 0.0037574376 | O14: 0.0046004334 | P14: 0.0045854117 | Q14: 0.0059006079 | R14: 0.0029269485 | S14: 0.0052536335 | T14: 0.0048044283 | U14: 0.0063445145 | V14: 0.0056913178 | W14: 0.0032526814 | X14: 0.0033258592 | Y14: 0.0042362619 | Z14: 0.0050869425
A15: MXNJPY | B15: 0 | C15: 15.1 | D15: =VLOOKUP(A15,スポット価格!A:B,2,FALSE) -> 8.593 | E15: =B15*D15 -> 0 | F15: =C15*365/D15/10000 -> 0.064139416 | G15: =SQRT(S11) -> 0.094426442 | H15: =F15/G15 -> 0.6792527 | J15: CADJPY | K15: 0.0045495755 | L15: 0.0035898083 | M15: 0.0034981783 | N15: 0.003508442 | O15: 0.0039559393 | P15: 0.0036967006 | Q15: 0.0029024286 | R15: 0.0044435918 | S15: 0.0037721139 | T15: 0.0035398231 | U15: 0.0025150858 | V15: 0.0032526814 | W15: 0.0050409086 | X15: 0.0036300447 | Y15: 0.0044006061 | Z15: 0.003622228
A16: CZKJPY | B16: 0 | C16: 5 | D16: =VLOOKUP(A16,スポット価格!A:B,2,FALSE) -> 7.27 | E16: =B16*D16 -> 0 | F16: =C16*365/D16/10000 -> 0.025103164 | G16: =SQRT(T12) -> 0.070065328 | H16: =F16/G16 -> 0.35828226 | J16: SGDJPY | K16: 0.003970818 | L16: 0.003309999 | M16: 0.0033069548 | N16: 0.0029218178 | O16: 0.0036809785 | P16: 0.0034228927 | Q16: 0.0035171787 | R16: 0.0039601223 | S16: 0.0038338323 | T16: 0.0034185023 | U16: 0.0032857623 | V16: 0.0033258592 | W16: 0.0036300447 | X16: 0.0034413182 | Y16: 0.0034032754 | Z16: 0.0033240127
A17: HUFJPY | B17: 5300000 | C17: 1.21 | D17: =VLOOKUP(A17,スポット価格!A:B,2,FALSE) -> 0.483 | E17: =B17*D17 -> 2559900 | F17: =C17*365/D17/10000 -> 0.091438923 | G17: =SQRT(U13) -> 0.10962374 | H17: =F17/G17 -> 0.83411605 | J17: NOKJPY | K17: 0.0035037309 | L17: 0.0040622893 | M17: 0.0042648288 | N17: 0.0041618084 | O17: 0.0051332437 | P17: 0.004875876 | Q17: 0.004549675 | R17: 0.0034200088 | S17: 0.004746433 | T17: 0.0042526429 | U17: 0.0037323443 | V17: 0.0042362619 | W17: 0.0044006061 | X17: 0.0034032754 | Y17: 0.0078321866 | Z17: 0.0054661234
A18: PLNJPY | B18: 0 | C18: 30 | D18: =VLOOKUP(A18,スポット価格!A:B,2,FALSE) -> 40.41 | E18: =B18*D18 -> 0 | F18: =C18*365/D18/10000 -> 0.027097253 | G18: =SQRT(V14) -> 0.075440823 | H18: =F18/G18 -> 0.35918554 | J18: SEKJPY | K18: 0.0025467911 | L18: 0.0041863091 | M18: 0.0043056881 | N18: 0.0043101015 | O18: 0.0053649201 | P18: 0.0055455946 | Q18: 0.0062651844 | R18: 0.0026355405 | S18: 0.0052821835 | T18: 0.0046507193 | U18: 0.0060959442 | V18: 0.0050869425 | W18: 0.003622228 | X18: 0.0033240127 | Y18: 0.0054661234 | Z18: 0.0068018148
A19: CADJPY | B19: 0 | C19: 30 | D19: =VLOOKUP(A19,スポット価格!A:B,2,FALSE) -> 110.993 | E19: =B19*D19 -> 0 | F19: =C19*365/D19/10000 -> 0.009865487 | G19: =SQRT(W15) -> 0.070999356 | H19: =F19/G19 -> 0.13895178
A20: SGDJPY | B20: -74000 | C20: 24 | D20: =VLOOKUP(A20,スポット価格!A:B,2,FALSE) -> 123.604 | E20: =B20*D20 -> -9146696 | F20: =C20*365/D20/10000 -> 0.0070871493 | G20: =SQRT(X16) -> 0.05866275 | H20: =F20/G20 -> 0.12081175
A21: NOKJPY | B21: 0 | C21: 12 | D21: =VLOOKUP(A21,スポット価格!A:B,2,FALSE) -> 16.553 | E21: =B21*D21 -> 0 | F21: =C21*365/D21/10000 -> 0.02646046 | G21: =SQRT(Y17) -> 0.088499642 | H21: =F21/G21 -> 0.29898946
A22: SEKJPY | B22: -37000 | C22: 4 | D22: =VLOOKUP(A22,スポット価格!A:B,2,FALSE) -> 15.831 | E22: =B22*D22 -> -585747 | F22: =C22*365/D22/10000 -> 0.0092224117 | G22: =SQRT(Z18) -> 0.082473115 | H22: =F22/G22 -> 0.11182325
A24: スワップポイント
B25: １日 | C25: １か月 | D25: １年
A26: 合算（円） | B26: =SUMPRODUCT(B7:B22,C7:C22)/10000 -> 1924.1 | C26: =B26*365/12 -> 58524.708 | D26: =B26*365 -> 702296.5 | K26: 中間ベクトル計算 | L26: 寄与額 | M26: 寄与度（％）
A27: 評価損益のブレ | K27: {=MMULT(K3:Z18, E7:E22)} -> 6509.5021 | L27: =K27*E7 -> 0 | M27: =L27/$D$29/$D$29 -> 0
B28: １日 | C28: １か月 | D28: １年 | K28: 5704.6711 | L28: =K28*E8 -> 0 | M28: =L28/$D$29/$D$29 -> 0
A29: リスク額 | B29: {=SQRT(MMULT(MMULT(TRANSPOSE($E$7:$E$22), $K$3:$Z$18), 最適化計算_みんなのFX!$E$7:$E$22)/252)} -> 18375.204 | C29: =D29/SQRT(12) -> 84205.765 | D29: {=SQRT(MMULT(MMULT(TRANSPOSE($E$7:$E$22), K3:Z18), 最適化計算_みんなのFX!$E$7:$E$22)/1)} -> 291697.33 | K29: 4608.6535 | L29: =K29*E9 -> 0 | M29: =L29/$D$29/$D$29 -> 0
A30: シャープレシオ | K30: 2259.7692 | L30: =K30*E10 -> 0 | M30: =L30/$D$29/$D$29 -> 0
D31: １年 | K31: 5148.0592 | L31: =K31*E11 -> 0 | M31: =L31/$D$29/$D$29 -> 0
A32: シャープレシオ | D32: =D26/D29 -> 2.4076206 | K32: 4329.0731 | L32: =K32*E12 -> 0 | M32: =L32/$D$29/$D$29 -> 0
K33: 11692.78 | L33: =K33*E13 -> 1.3449036e+10 | M33: =L33/$D$29/$D$29 -> 0.15806156
K34: 9976.7071 | L34: =K34*E14 -> 6.3910786e+10 | M34: =L34/$D$29/$D$29 -> 0.75111989
K35: 12625.218 | L35: =K35*E15 -> 0 | M35: =L35/$D$29/$D$29 -> 0
K36: 6996.1571 | L36: =K36*E16 -> 0 | M36: =L36/$D$29/$D$29 -> 0
K37: 19959.788 | L37: =K37*E17 -> 5.1095061e+10 | M37: =L37/$D$29/$D$29 -> 0.60050141
K38: 8377.9497 | L38: =K38*E18 -> 0 | M38: =L38/$D$29/$D$29 -> 0
K39: 2917.7659 | L39: =K39*E19 -> 0 | M39: =L39/$D$29/$D$29 -> 0
K40: 4401.5038 | L40: =K40*E20 -> -4.0259217e+10 | M40: =L40/$D$29/$D$29 -> -0.47315173
K41: 2365.5502 | L41: =K41*E21 -> 0 | M41: =L41/$D$29/$D$29 -> 0
K42: 5306.6187 | L42: =K42*E22 -> -3.108336e+09 | M42: =L42/$D$29/$D$29 -> -0.036531126
K43: #N/A | L43: =K43*#REF! -> #N/A | M43: =L43/$D$29/$D$29 -> #N/A
K44: #N/A | L44: =K44*#REF! -> #N/A | M44: =L44/$D$29/$D$29 -> #N/A

Sheet 最適化計算_GMO
A1: 証拠金 | B1: 1000000 | J1: ※共分散行列:2025/10/10-2026/10/9の日次データより算出、年率換算
A2: レバレッジ | B2: {=SUM(ABS(E7:E22))/B1} -> 20.403592 | K2: USDJPY | L2: EURJPY | M2: GBPJPY | N2: CHFJPY | O2: AUDJPY | P2: NZDJPY | Q2: ZARJPY | R2: TRYJPY | S2: MXNJPY | T2: CZKJPY | U2: HUFJPY | V2: PLNJPY | W2: CADJPY | X2: SGDJPY | Y2: NOKJPY | Z2: SEKJPY
A3: 円ポジション | B3: =-SUM(E7:E22) -> -1325147.5 | J3: USDJPY | K3: 0.0058975911 | L3: 0.0034897681 | M3: 0.0032904604 | N3: 0.0028894872 | O3: 0.0030818782 | P3: 0.002709794 | Q3: 0.0019447663 | R3: 0.0057903952 | S3: 0.0035743714 | T3: 0.0033523281 | U3: 0.0019496858 | V3: 0.002874416 | W3: 0.0045495755 | X3: 0.003970818 | Y3: 0.0035037309 | Z3: 0.0025467911
J4: EURJPY | K4: 0.0034897681 | L4: 0.0040186627 | M4: 0.0037919517 | N4: 0.0036035736 | O4: 0.003928877 | P4: 0.0039078252 | Q4: 0.0041261407 | R4: 0.0034655066 | S4: 0.0042503662 | T4: 0.0042207368 | U4: 0.0044870585 | V4: 0.0042251883 | W4: 0.0035898083 | X4: 0.003309999 | Y4: 0.0040622893 | Z4: 0.0041863091
A5: ポジション | J5: GBPJPY | K5: 0.0032904604 | L5: 0.0037919517 | M5: 0.0046898048 | N5: 0.00346901 | O5: 0.0042795783 | P5: 0.0043609577 | Q5: 0.0046038503 | R5: 0.0033262963 | S5: 0.0043026901 | T5: 0.0040557166 | U5: 0.0042090726 | V5: 0.0040531694 | W5: 0.0034981783 | X5: 0.0033069548 | Y5: 0.0042648288 | Z5: 0.0043056881
B6: 保有量 | C6: スワップポイント | D6: 価格 | E6: 円貨換算額 | F6: 利回り（年率） | G6: リスク | H6: シャープレシオ | J6: CHFJPY | K6: 0.0028894872 | L6: 0.0036035736 | M6: 0.00346901 | N6: 0.0048340854 | O6: 0.0035265034 | P6: 0.003778413 | Q6: 0.0033383667 | R6: 0.0027645634 | S6: 0.0032477256 | T6: 0.0038898219 | U6: 0.0038906969 | V6: 0.0037574376 | W6: 0.003508442 | X6: 0.0029218178 | Y6: 0.0041618084 | Z6: 0.0043101015
A7: USDJPY | B7: 0 | C7: 123 | D7: =VLOOKUP(A7,スポット価格!A:B,2,FALSE) -> 158.266 | E7: =B7*D7 -> 0 | F7: =C7*365/D7/10000 -> 0.0283668 | G7: =SQRT(K3) -> 0.076795775 | H7: =F7/G7 -> 0.3693797 | J7: AUDJPY | K7: 0.0030818782 | L7: 0.003928877 | M7: 0.0042795783 | N7: 0.0035265034 | O7: 0.0071502821 | P7: 0.0059327874 | Q7: 0.006952705 | R7: 0.0031038602 | S7: 0.0059308122 | T7: 0.0041689446 | U7: 0.0054998266 | V7: 0.0046004334 | W7: 0.0039559393 | X7: 0.0036809785 | Y7: 0.0051332437 | Z7: 0.0053649201
A8: EURJPY | B8: -28000 | C8: 65 | D8: =VLOOKUP(A8,スポット価格!A:B,2,FALSE) -> 177.311 | E8: =B8*D8 -> -4964708 | F8: =C8*365/D8/10000 -> 0.013380445 | G8: =SQRT(L4) -> 0.063392923 | H8: =F8/G8 -> 0.21107158 | J8: NZDJPY | K8: 0.002709794 | L8: 0.0039078252 | M8: 0.0043609577 | N8: 0.003778413 | O8: 0.0059327874 | P8: 0.0069087985 | Q8: 0.0063329544 | R8: 0.0028560807 | S8: 0.0052035998 | T8: 0.0042198478 | U8: 0.0051975976 | V8: 0.0045854117 | W8: 0.0036967006 | X8: 0.0034228927 | Y8: 0.004875876 | Z8: 0.0055455946
A9: GBPJPY | B9: 8000 | C9: 142 | D9: =VLOOKUP(A9,スポット価格!A:B,2,FALSE) -> 209.509 | E9: =B9*D9 -> 1676072 | F9: =C9*365/D9/10000 -> 0.024738794 | G9: =SQRT(M5) -> 0.068482149 | H9: =F9/G9 -> 0.36124442 | J9: ZARJPY | K9: 0.0019447663 | L9: 0.0041261407 | M9: 0.0046038503 | N9: 0.0033383667 | O9: 0.006952705 | P9: 0.0063329544 | Q9: 0.012300463 | R9: 0.0019885392 | S9: 0.0075945742 | T9: 0.0048831626 | U9: 0.0080653869 | V9: 0.0059006079 | W9: 0.0029024286 | X9: 0.0035171787 | Y9: 0.004549675 | Z9: 0.0062651844
A10: CHFJPY | B10: -17000 | C10: -43 | D10: =VLOOKUP(A10,スポット価格!A:B,2,FALSE) -> 190.677 | E10: =B10*D10 -> -3241509 | F10: =C10*365/D10/10000 -> -0.0082311973 | G10: =SQRT(N6) -> 0.069527587 | H10: =F10/G10 -> -0.1183875 | J10: TRYJPY | K10: 0.0057903952 | L10: 0.0034655066 | M10: 0.0033262963 | N10: 0.0027645634 | O10: 0.0031038602 | P10: 0.0028560807 | Q10: 0.0019885392 | R10: 0.0062508366 | S10: 0.0039837421 | T10: 0.0033390749 | U10: 0.0021143112 | V10: 0.0029269485 | W10: 0.0044435918 | X10: 0.0039601223 | Y10: 0.0034200088 | Z10: 0.0026355405
A11: AUDJPY | B11: 0.0066730896 | C11: 100 | D11: =VLOOKUP(A11,スポット価格!A:B,2,FALSE) -> 110.585 | E11: =B11*D11 -> 0.73794362 | F11: =C11*365/D11/10000 -> 0.033006285 | G11: =SQRT(O7) -> 0.084559341 | H11: =F11/G11 -> 0.39033281 | J11: MXNJPY | K11: 0.0035743714 | L11: 0.0042503662 | M11: 0.0043026901 | N11: 0.0032477256 | O11: 0.0059308122 | P11: 0.0052035998 | Q11: 0.0075945742 | R11: 0.0039837421 | S11: 0.008916353 | T11: 0.0046560195 | U11: 0.0064576776 | V11: 0.0052536335 | W11: 0.0037721139 | X11: 0.0038338323 | Y11: 0.004746433 | Z11: 0.0052821835
A12: NZDJPY | B12: -15000 | C12: 31 | D12: =VLOOKUP(A12,スポット価格!A:B,2,FALSE) -> 88.867 | E12: =B12*D12 -> -1333005 | F12: =C12*365/D12/10000 -> 0.01273251 | G12: =SQRT(P8) -> 0.083119182 | H12: =F12/G12 -> 0.15318378 | J12: CZKJPY | K12: 0.0033523281 | L12: 0.0042207368 | M12: 0.0040557166 | N12: 0.0038898219 | O12: 0.0041689446 | P12: 0.0042198478 | Q12: 0.0048831626 | R12: 0.0033390749 | S12: 0.0046560195 | T12: 0.0049091501 | U12: 0.0054617666 | V12: 0.0048044283 | W12: 0.0035398231 | X12: 0.0034185023 | Y12: 0.0042526429 | Z12: 0.0046507193
A13: ZARJPY | B13: 0 | C13: 14.5 | D13: =VLOOKUP(A13,スポット価格!A:B,2,FALSE) -> 9.585 | E13: =B13*D13 -> 0 | F13: =C13*365/D13/10000 -> 0.055216484 | G13: =SQRT(Q9) -> 0.11090745 | H13: =F13/G13 -> 0.49786091 | J13: HUFJPY | K13: 0.0019496858 | L13: 0.0044870585 | M13: 0.0042090726 | N13: 0.0038906969 | O13: 0.0054998266 | P13: 0.0051975976 | Q13: 0.0080653869 | R13: 0.0021143112 | S13: 0.0064576776 | T13: 0.0054617666 | U13: 0.012017365 | V13: 0.0063445145 | W13: 0.0025150858 | X13: 0.0032857623 | Y13: 0.0037323443 | Z13: 0.0060959442
A14: TRYJPY | B14: 1000000 | C14: =25-18 -> 7 | D14: =VLOOKUP(A14,スポット価格!A:B,2,FALSE) -> 3.203 | E14: =B14*D14 -> 3203000 | F14: =C14*365/D14/10000 -> 0.079768967 | G14: =SQRT(R10) -> 0.079062232 | H14: =F14/G14 -> 1.008939 | J14: PLNJPY | K14: 0.002874416 | L14: 0.0042251883 | M14: 0.0040531694 | N14: 0.0037574376 | O14: 0.0046004334 | P14: 0.0045854117 | Q14: 0.0059006079 | R14: 0.0029269485 | S14: 0.0052536335 | T14: 0.0048044283 | U14: 0.0063445145 | V14: 0.0056913178 | W14: 0.0032526814 | X14: 0.0033258592 | Y14: 0.0042362619 | Z14: 0.0050869425
A15: MXNJPY | B15: 230000 | C15: 15.1 | D15: =VLOOKUP(A15,スポット価格!A:B,2,FALSE) -> 8.593 | E15: =B15*D15 -> 1976390 | F15: =C15*365/D15/10000 -> 0.064139416 | G15: =SQRT(S11) -> 0.094426442 | H15: =F15/G15 -> 0.6792527 | J15: CADJPY | K15: 0.0045495755 | L15: 0.0035898083 | M15: 0.0034981783 | N15: 0.003508442 | O15: 0.0039559393 | P15: 0.0036967006 | Q15: 0.0029024286 | R15: 0.0044435918 | S15: 0.0037721139 | T15: 0.0035398231 | U15: 0.0025150858 | V15: 0.0032526814 | W15: 0.0050409086 | X15: 0.0036300447 | Y15: 0.0044006061 | Z15: 0.003622228
A16: CZKJPY | B16: 0 | C16: 5 | D16: =VLOOKUP(A16,スポット価格!A:B,2,FALSE) -> 7.27 | E16: =B16*D16 -> 0 | F16: =C16*365/D16/10000 -> 0.025103164 | G16: =SQRT(T12) -> 0.070065328 | H16: =F16/G16 -> 0.35828226 | J16: SGDJPY | K16: 0.003970818 | L16: 0.003309999 | M16: 0.0033069548 | N16: 0.0029218178 | O16: 0.0036809785 | P16: 0.0034228927 | Q16: 0.0035171787 | R16: 0.0039601223 | S16: 0.0038338323 | T16: 0.0034185023 | U16: 0.0032857623 | V16: 0.0033258592 | W16: 0.0036300447 | X16: 0.0034413182 | Y16: 0.0034032754 | Z16: 0.0033240127
A17: HUFJPY | B17: 8300000 | C17: 1.1 | D17: =VLOOKUP(A17,スポット価格!A:B,2,FALSE) -> 0.483 | E17: =B17*D17 -> 4008900 | F17: =C17*365/D17/10000 -> 0.083126294 | G17: =SQRT(U13) -> 0.10962374 | H17: =F17/G17 -> 0.75828732 | J17: NOKJPY | K17: 0.0035037309 | L17: 0.0040622893 | M17: 0.0042648288 | N17: 0.0041618084 | O17: 0.0051332437 | P17: 0.004875876 | Q17: 0.004549675 | R17: 0.0034200088 | S17: 0.004746433 | T17: 0.0042526429 | U17: 0.0037323443 | V17: 0.0042362619 | W17: 0.0044006061 | X17: 0.0034032754 | Y17: 0.0078321866 | Z17: 0.0054661234
A18: PLNJPY | B18: 0 | C18: 30 | D18: =VLOOKUP(A18,スポット価格!A:B,2,FALSE) -> 40.41 | E18: =B18*D18 -> 0 | F18: =C18*365/D18/10000 -> 0.027097253 | G18: =SQRT(V14) -> 0.075440823 | H18: =F18/G18 -> 0.35918554 | J18: SEKJPY | K18: 0.0025467911 | L18: 0.0041863091 | M18: 0.0043056881 | N18: 0.0043101015 | O18: 0.0053649201 | P18: 0.0055455946 | Q18: 0.0062651844 | R18: 0.0026355405 | S18: 0.0052821835 | T18: 0.0046507193 | U18: 0.0060959442 | V18: 0.0050869425 | W18: 0.003622228 | X18: 0.0033240127 | Y18: 0.0054661234 | Z18: 0.0068018148
A19: CADJPY | B19: 0 | C19: 28 | D19: =VLOOKUP(A19,スポット価格!A:B,2,FALSE) -> 110.993 | E19: =B19*D19 -> 0 | F19: =C19*365/D19/10000 -> 0.0092077879 | G19: =SQRT(W15) -> 0.070999356 | H19: =F19/G19 -> 0.12968833
A20: SGDJPY | B20: 0 | C20: 45 | D20: =VLOOKUP(A20,スポット価格!A:B,2,FALSE) -> 123.604 | E20: =B20*D20 -> 0 | F20: =C20*365/D20/10000 -> 0.013288405 | G20: =SQRT(X16) -> 0.05866275 | H20: =F20/G20 -> 0.22652203
A21: NOKJPY | B21: 0.40952424 | C21: 16 | D21: =VLOOKUP(A21,スポット価格!A:B,2,FALSE) -> 16.553 | E21: =B21*D21 -> 6.7788547 | F21: =C21*365/D21/10000 -> 0.035280614 | G21: =SQRT(Y17) -> 0.088499642 | H21: =F21/G21 -> 0.39865262
A22: SEKJPY | B22: 0 | C22: 4 | D22: =VLOOKUP(A22,スポット価格!A:B,2,FALSE) -> 15.831 | E22: =B22*D22 -> 0 | F22: =C22*365/D22/10000 -> 0.0092224117 | G22: =SQRT(Z18) -> 0.082473115 | H22: =F22/G22 -> 0.11182325
A24: スワップポイント
B25: １日 | C25: １か月 | D25: １年
A26: 合算（円） | B26: =SUMPRODUCT(B7:B22,C7:C22)/10000 -> 1918.5007 | C26: =B26*365/12 -> 58354.397 | D26: =B26*365 -> 700252.76 | K26: 中間ベクトル計算 | L26: 寄与額 | M26: 寄与度（％）
A27: 評価損益のブレ | K27: {=MMULT(K3:Z18, E7:E22)} -> 8638.0102 | L27: =K27*E7 -> 0 | M27: =L27/$D$29/$D$29 -> 0
B28: １日 | C28: １か月 | D28: １年 | K28: 7002.5286 | L28: =K28*E8 -> -3.476551e+10 | M28: =L28/$D$29/$D$29 -> -0.17775889
A29: リスク額 | B29: {=SQRT(MMULT(MMULT(TRANSPOSE($E$7:$E$22), $K$3:$Z$18), 最適化計算_GMO!$E$7:$E$22)/252)} -> 27858.541 | C29: =D29/SQRT(12) -> 127663.87 | D29: {=SQRT(MMULT(MMULT(TRANSPOSE($E$7:$E$22), K3:Z18), 最適化計算_GMO!$E$7:$E$22)/1)} -> 442240.63 | K29: 8008.216 | L29: =K29*E9 -> 1.3422347e+10 | M29: =L29/$D$29/$D$29 -> 0.068629553
A30: シャープレシオ | K30: -1911.6401 | L30: =K30*E10 -> 6.1965985e+09 | M30: =L30/$D$29/$D$29 -> 0.031683714
D31: １年 | K31: 12039.084 | L31: =K31*E11 -> 8884.1649 | M31: =L31/$D$29/$D$29 -> 4.542546e-08
A32: シャープレシオ | D32: =D26/D29 -> 1.5834202 | K32: 6719.9009 | L32: =K32*E12 -> -8.9576615e+09 | M32: =L32/$D$29/$D$29 -> -0.045801254
K33: 21680.592 | L33: =K33*E13 -> 0 | M33: =L33/$D$29/$D$29 -> 0
K34: 11972.302 | L34: =K34*E14 -> 3.8347283e+10 | M34: =L34/$D$29/$D$29 -> 0.19607279
K35: 24916.172 | L35: =K35*E15 -> 4.9244073e+10 | M35: =L35/$D$29/$D$29 -> 0.25178896
K36: 9401.8517 | L36: =K36*E16 -> 0 | M36: =L36/$D$29/$D$29 -> 0
K37: 32949.093 | L37: =K37*E17 -> 1.3208962e+11 | M37: =L37/$D$29/$D$29 -> 0.675385
K38: 12717.234 | L38: =K38*E18 -> 0 | M38: =L38/$D$29/$D$29 -> 0
K39: 3511.2342 | L39: =K39*E19 -> 0 | M39: =L39/$D$29/$D$29 -> 0
K40: 8509.4223 | L40: =K40*E20 -> 0 | M40: =L40/$D$29/$D$29 -> 0
K41: 2287.7165 | L41: =K41*E21 -> 15508.097 | M41: =L41/$D$29/$D$29 -> 7.9294167e-08
K42: 8388.6655 | L42: =K42*E22 -> 0 | M42: =L42/$D$29/$D$29 -> 0
K43: #N/A | L43: =K43*#REF! -> #N/A | M43: =L43/$D$29/$D$29 -> #N/A
K44: #N/A | L44: =K44*#REF! -> #N/A | M44: =L44/$D$29/$D$29 -> #N/A

Sheet スポット価格
A1: 通貨ペア | B1: BID | C1: ASK | D1: 前日比 | E1: 高値 | F1: 安値 | G1: スプレッド
A2: USDJPY LIGHT | B2: 158.2662 | C2: 158.2677 | D2: 0.363 | E2: 158.4302 | F2: 157.7607 | G2: 0.15
A3: EURJPY LIGHT | B3: 177.3112 | C3: 177.3147 | D3: 0.278 | E3: 177.8702 | F3: 176.9657 | G3: 0.35
A4: GBPJPY LIGHT | B4: 209.5096 | C4: 209.5174 | D4: 0.626 | E4: 209.7386 | F4: 208.8094 | G4: 0.78
A5: AUDJPY LIGHT | B5: 110.5856 | C5: 110.5894 | D5: 0.713 | E5: 110.6046 | F5: 109.8134 | G5: 0.38
A6: NZDJPY LIGHT | B6: 88.8676 | C6: 88.8734 | D6: 0.409 | E6: 88.9326 | F6: 88.4484 | G6: 0.58
A7: ZARJPY LIGHT | B7: 9.5851 | C7: 9.5929 | D7: 0.07 | E7: 9.5871 | F7: 9.5119 | G7: 0.78
A8: TRYJPY LIGHT | B8: 3.2031 | C8: 3.2149 | D8: 0.022 | E8: 3.2151 | F8: 3.2019 | G8: 1.18
A9: MXNJPY LIGHT | B9: 8.5936 | C9: 8.5954 | D9: -0.086 | E9: 8.7216 | F9: 8.5574 | G9: 0.18
A10: CZKJPY LIGHT | B10: 7.2702 | C10: 7.2717 | D10: 0.008 | E10: 7.2992 | F10: 7.2597 | G10: 0.15
A11: HUFJPY LIGHT | B11: 0.4831 | C11: 0.4889 | D11: 0.002 | E11: 0.4851 | F11: 0.4869 | G11: 0.58
A12: EURUSD LIGHT | B12: 1.120286 | C12: 1.120304 | D12: -0.0008 | E12: 1.124266 | F12: 1.118784 | G12: 0.18
A13: GBPUSD LIGHT | B13: 1.323746 | C13: 1.323814 | D13: 0.00101 | E13: 1.324996 | F13: 1.320624 | G13: 0.68
... A52: USDJPYラージ | B52: 158.258 | C52: 158.276 | D52: 0.363 | E52: 158.43 | F52: 157.762 | G52: 1.8
